BEGIN:VCALENDAR
VERSION:2.0
PRODID:Events Booking
BEGIN:VEVENT
UID:69e7c6a08d15c
SUMMARY:Four hands and a symphony- \"Feinste Kammermusik\"
DESCRIPTION:Mo\, 10.11.2025\, 19:00\, Bank Austria Salon - Ausgewählte Wer
 ke von Brahms\,&nbsp\;Wladigerow und&nbsp\;Beethoven.
 
 Studierende der
  mdw\, vorgestellt von Stefan Mendl. In einer Serie von 4 Abenden erklingt
  die ganze Bandbreite der Kammermusik mit Klavier (vom Duo bis zum Quintet
 t und Sextett) in diesem schönen Rahmen. Jedes der Konzerte wird von herv
 orragenden Studierenden der MDW gemeinsam mit Prof. Stefan Mendl gestaltet
  und präsentiert.
 
 
 Programm:
 J. Brahms (1833–1897): Variatione
 n über ein Thema von Robert Schumann\, op. 23J. Brahms (1833–1897): Ung
 arische Tänze\, WoO 1P. Wladigerow (1899–1978): Bulgarische Rhapsodie \
 "Vardar\"\, op. 16
 * * *
 L. van Beethoven (1770–1827): Symphonie Nr.
  5 in c-moll\, op. 67Bearbeitung für Klavier vierhändig: H. Ulrich (1827
 –1872)
 &nbsp\;
 &nbsp\;
 Über die Künstler:
 &nbsp\;
 Konstanca 
 Dyulgerova\, KlavierUrban Stanič\, Klavier
LOCATION:Wipplingerstraße 6-8\, Wien\, 1010\, Österreich
DTSTART:20251110T180000Z
DTEND:20251110T200000Z
DTSTAMP:20251029T111051Z
ORGANIZER;CN=G.I. STINGL Klaviere e.U.:MAILTO:kontaktformular@stingl-klavie
 r.at
GEO:48.212235;16.370797
X-APPLE-STRUCTURED-LOCATION;VALUE=URI;X-ADDRESS=Wipplingerstraße 6-8\, Wie
 n\, 1010\, Österreich;X-APPLE-RADIUS=72;X-TITLE=Bank Austria Salon:48.212
 235;16.370797
END:VEVENT
END:VCALENDAR